BEGIN:VCALENDAR
VERSION:2.0
PRODID:concerti//https://www.concerti.de
CALSCALE:GREGORIAN
BEGIN:VTIMEZONE
TZID:Europe/Berlin
X-LIC-LOCATION:Europe/Berlin
BEGIN:DAYLIGHT
TZOFFSETFROM:+0100
TZOFFSETTO:+0200
TZNAME:CEST
DTSTART:19700329T020000
RRULE:FREQ=YEARLY;BYMONTH=3;BYDAY=-1SU
END:DAYLIGHT
BEGIN:STANDARD
TZOFFSETFROM:+0200
TZOFFSETTO:+0100
TZNAME:CET
DTSTART:19701025T030000
RRULE:FREQ=YEARLY;BYMONTH=10;BYDAY=-1SU
END:STANDARD
END:VTIMEZONE
BEGIN:VEVENT
UID:73b367a5f6837b1acdbd3e665f7125e0
SUMMARY:Im Auftrag der Zarin - Musikfest Bremen
URL:https://www.concerti.de/termine/im-auftrag-der-zarin-894121/
DTSTART;TZID=Europe/Berlin:20260816T190000
DTEND;TZID=Europe/Berlin:20260816T210000
DESCRIPTION:Interpreten: Teilnehmer des Musikfest-Ateliers Katharinas Hofmusik\, Stadtkantorei Jever\, Alfredo Bernardini (eitung)\, Alessandro Quarta (Leitung) \nProgramm: Haydn: Sinfonie Nr. 55 Es-Dur Hob. I:55\, Werke von Galuppi\, Paisiello\, Manfredini\, Cimarosa\, Millico & Piccinni \nhttps://www.concerti.de/termine/im-auftrag-der-zarin-894121/
LOCATION:Stadtkirche\, Jever
END:VEVENT
END:VCALENDAR