BEGIN:VCALENDAR
VERSION:2.0
PRODID:concerti//https://www.concerti.de
CALSCALE:GREGORIAN
BEGIN:VTIMEZONE
TZID:Europe/Berlin
X-LIC-LOCATION:Europe/Berlin
BEGIN:DAYLIGHT
TZOFFSETFROM:+0100
TZOFFSETTO:+0200
TZNAME:CEST
DTSTART:19700329T020000
RRULE:FREQ=YEARLY;BYMONTH=3;BYDAY=-1SU
END:DAYLIGHT
BEGIN:STANDARD
TZOFFSETFROM:+0200
TZOFFSETTO:+0100
TZNAME:CET
DTSTART:19701025T030000
RRULE:FREQ=YEARLY;BYMONTH=10;BYDAY=-1SU
END:STANDARD
END:VTIMEZONE
BEGIN:VEVENT
UID:9219d8bd456849514bfb33e11f0f7068
SUMMARY:Fazıl Say (Klavier), hr-Sinfonieorchester, Alain Altinoglu (Leitung) - Musikfest Bremen: Eine große Nachtmusik
URL:https://www.concerti.de/termine/fazil-say-klavier-hr-sinfonieorchester-alain-altinoglu-leitung-die-glocke-bremen-894086/
DTSTART;TZID=Europe/Berlin:20260815T220000
DTEND;TZID=Europe/Berlin:20260816T000000
DESCRIPTION:Interpreten: Fazıl Say (Klavier)\, hr-Sinfonieorchester\, Alain Altinoglu (Leitung) \nProgramm: Berlioz: Ungarischer Tanz aus „La damnation de Faust“\, Gershwin: Rhapsody in Blue & An American in Paris \nhttps://www.concerti.de/termine/fazil-say-klavier-hr-sinfonieorchester-alain-altinoglu-leitung-die-glocke-bremen-894086/
LOCATION:Die Glocke Bremen\, Domsheide 4\, 28195 Bremen
END:VEVENT
END:VCALENDAR