BEGIN:VCALENDAR
VERSION:2.0
PRODID:concerti//https://www.concerti.de
CALSCALE:GREGORIAN
BEGIN:VTIMEZONE
TZID:Europe/Berlin
X-LIC-LOCATION:Europe/Berlin
BEGIN:DAYLIGHT
TZOFFSETFROM:+0100
TZOFFSETTO:+0200
TZNAME:CEST
DTSTART:19700329T020000
RRULE:FREQ=YEARLY;BYMONTH=3;BYDAY=-1SU
END:DAYLIGHT
BEGIN:STANDARD
TZOFFSETFROM:+0200
TZOFFSETTO:+0100
TZNAME:CET
DTSTART:19701025T030000
RRULE:FREQ=YEARLY;BYMONTH=10;BYDAY=-1SU
END:STANDARD
END:VTIMEZONE
BEGIN:VEVENT
UID:4f1216e65e9047c0a09d28f6372fa3bf
SUMMARY:Female Perspectives - Musikfest Bremen: Eine große Nachtmusik
URL:https://www.concerti.de/termine/female-perspectives-894103/
DTSTART;TZID=Europe/Berlin:20260815T203000
DTEND;TZID=Europe/Berlin:20260815T223000
DESCRIPTION:Interpreten: Spark \nProgramm: Werke von Leonarda\, C. Schumann\, Viardot-García\, Beach\, Tailleferre\, Kats-Chernin u. a. \nhttps://www.concerti.de/termine/female-perspectives-894103/
LOCATION:Haus der Bürgerschaft\, Bremen
END:VEVENT
END:VCALENDAR