BEGIN:VCALENDAR
VERSION:2.0
PRODID:concerti//https://www.concerti.de
CALSCALE:GREGORIAN
BEGIN:VTIMEZONE
TZID:Europe/Berlin
X-LIC-LOCATION:Europe/Berlin
BEGIN:DAYLIGHT
TZOFFSETFROM:+0100
TZOFFSETTO:+0200
TZNAME:CEST
DTSTART:19700329T020000
RRULE:FREQ=YEARLY;BYMONTH=3;BYDAY=-1SU
END:DAYLIGHT
BEGIN:STANDARD
TZOFFSETFROM:+0200
TZOFFSETTO:+0100
TZNAME:CET
DTSTART:19701025T030000
RRULE:FREQ=YEARLY;BYMONTH=10;BYDAY=-1SU
END:STANDARD
END:VTIMEZONE
BEGIN:VEVENT
UID:030204f24f2bfd1a1dad0e9f805b01cd
SUMMARY:Boston Early Music Festival Vocal &amp; Chamber Ensembles, Paul O’Dette (Leitung), Stephen Stubbs (Leitung) - Musikfest Bremen: Eine große Nachtmusik
URL:https://www.concerti.de/termine/boston-early-music-festival-vocal-chamber-ensembles-paul-odette-leitung-stephen-stubbs-leitung-894080/
DTSTART;TZID=Europe/Berlin:20260815T190000
DTEND;TZID=Europe/Berlin:20260815T210000
DESCRIPTION:Interpreten: Boston Early Music Festival Vocal & Chamber Ensembles\, Paul O’Dette (Leitung)\, Stephen Stubbs (Leitung) \nProgramm: Monteverdi: Lamento d’Arianna\, Zefiro torna\, Lamento della Ninfa u. a. \nhttps://www.concerti.de/termine/boston-early-music-festival-vocal-chamber-ensembles-paul-odette-leitung-stephen-stubbs-leitung-894080/
LOCATION:Kirche Unser Lieben Frauen\, Bremen
END:VEVENT
END:VCALENDAR