BEGIN:VCALENDAR
VERSION:2.0
PRODID:concerti//https://www.concerti.de
CALSCALE:GREGORIAN
BEGIN:VTIMEZONE
TZID:Europe/Berlin
X-LIC-LOCATION:Europe/Berlin
BEGIN:DAYLIGHT
TZOFFSETFROM:+0100
TZOFFSETTO:+0200
TZNAME:CEST
DTSTART:19700329T020000
RRULE:FREQ=YEARLY;BYMONTH=3;BYDAY=-1SU
END:DAYLIGHT
BEGIN:STANDARD
TZOFFSETFROM:+0200
TZOFFSETTO:+0100
TZNAME:CET
DTSTART:19701025T030000
RRULE:FREQ=YEARLY;BYMONTH=10;BYDAY=-1SU
END:STANDARD
END:VTIMEZONE
BEGIN:VEVENT
UID:adab9a7885a816f3ff56c59b225a4644
SUMMARY:Artem Belogurov (Klavier) - Tage Alter Musik Medingen
URL:https://www.concerti.de/termine/artem-belogurov-klavier-894035/
DTSTART;TZID=Europe/Berlin:20260619T203000
DTEND;TZID=Europe/Berlin:20260619T223000
DESCRIPTION:Interpreten: Artem Belogurov (Klavier) \nProgramm: Werke von C. P. E. Bach\, Mozart & Beethoven \nhttps://www.concerti.de/termine/artem-belogurov-klavier-894035/
LOCATION:Kloster Medingen\, Bad Bevensen
END:VEVENT
END:VCALENDAR