BEGIN:VCALENDAR
VERSION:2.0
PRODID:concerti//https://www.concerti.de
CALSCALE:GREGORIAN
BEGIN:VTIMEZONE
TZID:Europe/Berlin
X-LIC-LOCATION:Europe/Berlin
BEGIN:DAYLIGHT
TZOFFSETFROM:+0100
TZOFFSETTO:+0200
TZNAME:CEST
DTSTART:19700329T020000
RRULE:FREQ=YEARLY;BYMONTH=3;BYDAY=-1SU
END:DAYLIGHT
BEGIN:STANDARD
TZOFFSETFROM:+0200
TZOFFSETTO:+0100
TZNAME:CET
DTSTART:19701025T030000
RRULE:FREQ=YEARLY;BYMONTH=10;BYDAY=-1SU
END:STANDARD
END:VTIMEZONE
BEGIN:VEVENT
UID:671788f92c117c0acca608cc4090d410
SUMMARY:Ensemble Pseudonym - Tage Alter Musik Medingen
URL:https://www.concerti.de/termine/ensemble-pseudonym-894026/
DTSTART;TZID=Europe/Berlin:20260618T193000
DTEND;TZID=Europe/Berlin:20260618T213000
DESCRIPTION:Interpreten: Ensemble Pseudonym \nProgramm: Werke von Rameau & Couperin \nhttps://www.concerti.de/termine/ensemble-pseudonym-894026/
LOCATION:Kloster Medingen\, Bad Bevensen
END:VEVENT
END:VCALENDAR