BEGIN:VCALENDAR
VERSION:2.0
PRODID:concerti//https://www.concerti.de
CALSCALE:GREGORIAN
BEGIN:VTIMEZONE
TZID:Europe/Berlin
X-LIC-LOCATION:Europe/Berlin
BEGIN:DAYLIGHT
TZOFFSETFROM:+0100
TZOFFSETTO:+0200
TZNAME:CEST
DTSTART:19700329T020000
RRULE:FREQ=YEARLY;BYMONTH=3;BYDAY=-1SU
END:DAYLIGHT
BEGIN:STANDARD
TZOFFSETFROM:+0200
TZOFFSETTO:+0100
TZNAME:CET
DTSTART:19701025T030000
RRULE:FREQ=YEARLY;BYMONTH=10;BYDAY=-1SU
END:STANDARD
END:VTIMEZONE
BEGIN:VEVENT
UID:6d97864cadfdab18a3a3c42387420232
SUMMARY:Pfeiffer-Trompeten-Consort
URL:https://www.concerti.de/termine/pfeiffer-trompeten-consort-894006/
DTSTART;TZID=Europe/Berlin:20260525T180000
DTEND;TZID=Europe/Berlin:20260525T200000
DESCRIPTION:Interpreten: Pfeiffer-Trompeten-Consort \nProgramm: Vivaldi: Trompetenkonzert\, Verdi: Ouvertüre zu „Nabucco“\, Rodrigo: Adagio aus Concierto de Aranjuez u. a. \nhttps://www.concerti.de/termine/pfeiffer-trompeten-consort-894006/
LOCATION:St. Jakobi\, Hanstedt
END:VEVENT
END:VCALENDAR