BEGIN:VCALENDAR
VERSION:2.0
PRODID:concerti//https://www.concerti.de
CALSCALE:GREGORIAN
BEGIN:VTIMEZONE
TZID:Europe/Berlin
X-LIC-LOCATION:Europe/Berlin
BEGIN:DAYLIGHT
TZOFFSETFROM:+0100
TZOFFSETTO:+0200
TZNAME:CEST
DTSTART:19700329T020000
RRULE:FREQ=YEARLY;BYMONTH=3;BYDAY=-1SU
END:DAYLIGHT
BEGIN:STANDARD
TZOFFSETFROM:+0200
TZOFFSETTO:+0100
TZNAME:CET
DTSTART:19701025T030000
RRULE:FREQ=YEARLY;BYMONTH=10;BYDAY=-1SU
END:STANDARD
END:VTIMEZONE
BEGIN:VEVENT
UID:d1f5678cfa302de099a434bbd6dfab59
SUMMARY:Anissa Albrecht (Klarinette), Karima Albrecht (Violoncello), Kammerchor der Hochschule für Musik Franz Liszt Weimar, Jürgen Puschbeck (Leitung)
URL:https://www.concerti.de/termine/anissa-albrecht-klarinette-karima-albrecht-violoncello-kammerchor-der-hochschule-fuer-musik-franz-liszt-weimar-juergen-puschbeck-leitung-893981/
DTSTART;TZID=Europe/Berlin:20260501T170000
DTEND;TZID=Europe/Berlin:20260501T190000
DESCRIPTION:Interpreten: Anissa Albrecht (Klarinette)\, Karima Albrecht (Violoncello)\, Kammerchor der Hochschule für Musik Franz Liszt Weimar\, Jürgen Puschbeck (Leitung) \nhttps://www.concerti.de/termine/anissa-albrecht-klarinette-karima-albrecht-violoncello-kammerchor-der-hochschule-fuer-musik-franz-liszt-weimar-juergen-puschbeck-leitung-893981/
LOCATION:St. Johannis\, Lüneburg
END:VEVENT
END:VCALENDAR