BEGIN:VCALENDAR
VERSION:2.0
PRODID:concerti//https://www.concerti.de
CALSCALE:GREGORIAN
BEGIN:VTIMEZONE
TZID:Europe/Berlin
X-LIC-LOCATION:Europe/Berlin
BEGIN:DAYLIGHT
TZOFFSETFROM:+0100
TZOFFSETTO:+0200
TZNAME:CEST
DTSTART:19700329T020000
RRULE:FREQ=YEARLY;BYMONTH=3;BYDAY=-1SU
END:DAYLIGHT
BEGIN:STANDARD
TZOFFSETFROM:+0200
TZOFFSETTO:+0100
TZNAME:CET
DTSTART:19701025T030000
RRULE:FREQ=YEARLY;BYMONTH=10;BYDAY=-1SU
END:STANDARD
END:VTIMEZONE
BEGIN:VEVENT
UID:290ab05a79b32cb482add0c68f65595b
SUMMARY:Musiker der Oscar und Vera Ritter-Stiftung - Kammerkonzerte der Oscar und Vera Ritter-Stiftung
URL:https://www.concerti.de/termine/musiker-der-oscar-und-vera-ritter-stiftung-893891/
DTSTART;TZID=Europe/Berlin:20261013T193000
DTEND;TZID=Europe/Berlin:20261013T213000
DESCRIPTION:Interpreten: Musiker der Oscar und Vera Ritter-Stiftung \nhttps://www.concerti.de/termine/musiker-der-oscar-und-vera-ritter-stiftung-893891/
LOCATION:Miralles Saal\, Hamburg
END:VEVENT
END:VCALENDAR