BEGIN:VCALENDAR
VERSION:2.0
PRODID:concerti//https://www.concerti.de
CALSCALE:GREGORIAN
BEGIN:VTIMEZONE
TZID:Europe/Berlin
X-LIC-LOCATION:Europe/Berlin
BEGIN:DAYLIGHT
TZOFFSETFROM:+0100
TZOFFSETTO:+0200
TZNAME:CEST
DTSTART:19700329T020000
RRULE:FREQ=YEARLY;BYMONTH=3;BYDAY=-1SU
END:DAYLIGHT
BEGIN:STANDARD
TZOFFSETFROM:+0200
TZOFFSETTO:+0100
TZNAME:CET
DTSTART:19701025T030000
RRULE:FREQ=YEARLY;BYMONTH=10;BYDAY=-1SU
END:STANDARD
END:VTIMEZONE
BEGIN:VEVENT
UID:8abc04a7e7e31f970b334af5c2572fc2
SUMMARY:Ce Que Le Jour Doit À La Nuit
URL:https://www.concerti.de/termine/ce-que-le-jour-doit-a-la-nuit-staatsoper-hamburg-893866/
DTSTART;TZID=Europe/Berlin:20260701T193000
DTEND;TZID=Europe/Berlin:20260701T213000
DESCRIPTION:Interpreten: Compagnie Hervé Koubi \nProgramm: Hervé Koubi (Choreografie) \nhttps://www.concerti.de/termine/ce-que-le-jour-doit-a-la-nuit-staatsoper-hamburg-893866/
LOCATION:Staatsoper Hamburg\, Dammtorstr. 28\, 20354 Hamburg
END:VEVENT
END:VCALENDAR