BEGIN:VCALENDAR
VERSION:2.0
PRODID:concerti//https://www.concerti.de
CALSCALE:GREGORIAN
BEGIN:VTIMEZONE
TZID:Europe/Berlin
X-LIC-LOCATION:Europe/Berlin
BEGIN:DAYLIGHT
TZOFFSETFROM:+0100
TZOFFSETTO:+0200
TZNAME:CEST
DTSTART:19700329T020000
RRULE:FREQ=YEARLY;BYMONTH=3;BYDAY=-1SU
END:DAYLIGHT
BEGIN:STANDARD
TZOFFSETFROM:+0200
TZOFFSETTO:+0100
TZNAME:CET
DTSTART:19701025T030000
RRULE:FREQ=YEARLY;BYMONTH=10;BYDAY=-1SU
END:STANDARD
END:VTIMEZONE
BEGIN:VEVENT
UID:71d876545b510f7ef0af1676c246f45b
SUMMARY:J. S. Bach: Lutherische Messe G-Dir - Musik im Gottesdienst
URL:https://www.concerti.de/termine/j-s-bach-lutherische-messe-g-dir-hauptkirche-st-jacobi-893825/
DTSTART;TZID=Europe/Berlin:20260621T110000
DTEND;TZID=Europe/Berlin:20260621T130000
DESCRIPTION:Interpreten: Lucy de Butts (Sopran)\, Matthias Dähling (Altus)\, Mirko Ludwig (Tenor)\, Sönke Tams Freier (Bass)\, Kantorei St. Jacobi\, Barocksolisten St. Jacobi\, Gerhard Löffler (Leitung) \nhttps://www.concerti.de/termine/j-s-bach-lutherische-messe-g-dir-hauptkirche-st-jacobi-893825/
LOCATION:Hauptkirche St. Jacobi Hamburg\, Jakobikirchhof 22\, 20095 Hamburg
END:VEVENT
END:VCALENDAR