BEGIN:VCALENDAR
VERSION:2.0
PRODID:concerti//https://www.concerti.de
CALSCALE:GREGORIAN
BEGIN:VTIMEZONE
TZID:Europe/Berlin
X-LIC-LOCATION:Europe/Berlin
BEGIN:DAYLIGHT
TZOFFSETFROM:+0100
TZOFFSETTO:+0200
TZNAME:CEST
DTSTART:19700329T020000
RRULE:FREQ=YEARLY;BYMONTH=3;BYDAY=-1SU
END:DAYLIGHT
BEGIN:STANDARD
TZOFFSETFROM:+0200
TZOFFSETTO:+0100
TZNAME:CET
DTSTART:19701025T030000
RRULE:FREQ=YEARLY;BYMONTH=10;BYDAY=-1SU
END:STANDARD
END:VTIMEZONE
BEGIN:VEVENT
UID:db9536f3c2873c35574af0b96289d822
SUMMARY:J. S. Bach: Messe g-Moll BWV 235 - Musik im Gottesdienst
URL:https://www.concerti.de/termine/j-s-bach-messe-g-moll-bwv-235-hauptkirche-st-katharinen-893797/
DTSTART;TZID=Europe/Berlin:20260614T110000
DTEND;TZID=Europe/Berlin:20260614T130000
DESCRIPTION:Interpreten: Geneviève Tschumi (Alt)\, Michael Connaire (Tenor)\, Dávid Csizmár (Bass)\, Kantorei und Barockorchester St. Katharinen\, Andreas Fischer (Leitung & Orgel)\, Britta Tadikken (Predigt) \nhttps://www.concerti.de/termine/j-s-bach-messe-g-moll-bwv-235-hauptkirche-st-katharinen-893797/
LOCATION:Hauptkirche St. Katharinen\, Katharinenkirchhof 1\, 20457 Hamburg
END:VEVENT
END:VCALENDAR