BEGIN:VCALENDAR
VERSION:2.0
PRODID:concerti//https://www.concerti.de
CALSCALE:GREGORIAN
BEGIN:VTIMEZONE
TZID:Europe/Berlin
X-LIC-LOCATION:Europe/Berlin
BEGIN:DAYLIGHT
TZOFFSETFROM:+0100
TZOFFSETTO:+0200
TZNAME:CEST
DTSTART:19700329T020000
RRULE:FREQ=YEARLY;BYMONTH=3;BYDAY=-1SU
END:DAYLIGHT
BEGIN:STANDARD
TZOFFSETFROM:+0200
TZOFFSETTO:+0100
TZNAME:CET
DTSTART:19701025T030000
RRULE:FREQ=YEARLY;BYMONTH=10;BYDAY=-1SU
END:STANDARD
END:VTIMEZONE
BEGIN:VEVENT
UID:6f393d143bb409d5b1129d5e8e4267c4
SUMMARY:Es lebe die Operette
URL:https://www.concerti.de/termine/es-lebe-die-operette-laeiszhalle-893786/
DTSTART;TZID=Europe/Berlin:20260612T200000
DTEND;TZID=Europe/Berlin:20260612T220000
DESCRIPTION:Interpreten: Armine Nersisjan (Sopran)\, Hendrik Lücke (Tenor)\, Ensemble der Neuen Philharmonie Hamburg \nhttps://www.concerti.de/termine/es-lebe-die-operette-laeiszhalle-893786/
LOCATION:Laeiszhalle\, Johannes-Brahms-Platz\, 20355 Hamburg
END:VEVENT
END:VCALENDAR