BEGIN:VCALENDAR
VERSION:2.0
PRODID:concerti//https://www.concerti.de
CALSCALE:GREGORIAN
BEGIN:VTIMEZONE
TZID:Europe/Berlin
X-LIC-LOCATION:Europe/Berlin
BEGIN:DAYLIGHT
TZOFFSETFROM:+0100
TZOFFSETTO:+0200
TZNAME:CEST
DTSTART:19700329T020000
RRULE:FREQ=YEARLY;BYMONTH=3;BYDAY=-1SU
END:DAYLIGHT
BEGIN:STANDARD
TZOFFSETFROM:+0200
TZOFFSETTO:+0100
TZNAME:CET
DTSTART:19701025T030000
RRULE:FREQ=YEARLY;BYMONTH=10;BYDAY=-1SU
END:STANDARD
END:VTIMEZONE
BEGIN:VEVENT
UID:c499e01f82095eaed3e7e31aa3cbcfff
SUMMARY:Tobias Brommann (Orgel), Neubrandenburger Philharmonie, Victor Rouanet (Leitung)
URL:https://www.concerti.de/termine/tobias-brommann-orgel-neubrandenburger-philharmonie-victor-rouanet-leitung-konzertkirche-neubrandenburg-893782/
DTSTART;TZID=Europe/Berlin:20260611T193000
DTEND;TZID=Europe/Berlin:20260611T213000
DESCRIPTION:Interpreten: Tobias Brommann (Orgel)\, Neubrandenburger Philharmonie\, Victor Rouanet (Leitung) \nProgramm: Dupré: Cortege et litanie op. 19/2\, Ravel: Bolero\, Bizet: Suite Nr. 1 aus „L’Arsienne“\, Guilmant: Orgelsinfonie Nr. 1 \nhttps://www.concerti.de/termine/tobias-brommann-orgel-neubrandenburger-philharmonie-victor-rouanet-leitung-konzertkirche-neubrandenburg-893782/
LOCATION:Konzertkirche Neubrandenburg\, An der Marienkirche\, 17033 Neubrandenburg
END:VEVENT
END:VCALENDAR