BEGIN:VCALENDAR
VERSION:2.0
PRODID:concerti//https://www.concerti.de
CALSCALE:GREGORIAN
BEGIN:VTIMEZONE
TZID:Europe/Berlin
X-LIC-LOCATION:Europe/Berlin
BEGIN:DAYLIGHT
TZOFFSETFROM:+0100
TZOFFSETTO:+0200
TZNAME:CEST
DTSTART:19700329T020000
RRULE:FREQ=YEARLY;BYMONTH=3;BYDAY=-1SU
END:DAYLIGHT
BEGIN:STANDARD
TZOFFSETFROM:+0200
TZOFFSETTO:+0100
TZNAME:CET
DTSTART:19701025T030000
RRULE:FREQ=YEARLY;BYMONTH=10;BYDAY=-1SU
END:STANDARD
END:VTIMEZONE
BEGIN:VEVENT
UID:d177e50a3776f52a20d031a034f21e91
SUMMARY:Atos Trio - Klassisch beflügelt
URL:https://www.concerti.de/termine/atos-trio-893772/
DTSTART;TZID=Europe/Berlin:20260609T180000
DTEND;TZID=Europe/Berlin:20260609T200000
DESCRIPTION:Interpreten: Atos Trio \nProgramm: Hensel: Klaviertrio d-Moll op. 11\, Casella: Siciliana e Burlesca op. 23b\, Beethoven: Klaviertrio Es-Dur op. 70/2 \nhttps://www.concerti.de/termine/atos-trio-893772/
LOCATION:St. Ansgar\, Kiel
END:VEVENT
END:VCALENDAR