BEGIN:VCALENDAR
VERSION:2.0
PRODID:concerti//https://www.concerti.de
CALSCALE:GREGORIAN
BEGIN:VTIMEZONE
TZID:Europe/Berlin
X-LIC-LOCATION:Europe/Berlin
BEGIN:DAYLIGHT
TZOFFSETFROM:+0100
TZOFFSETTO:+0200
TZNAME:CEST
DTSTART:19700329T020000
RRULE:FREQ=YEARLY;BYMONTH=3;BYDAY=-1SU
END:DAYLIGHT
BEGIN:STANDARD
TZOFFSETFROM:+0200
TZOFFSETTO:+0100
TZNAME:CET
DTSTART:19701025T030000
RRULE:FREQ=YEARLY;BYMONTH=10;BYDAY=-1SU
END:STANDARD
END:VTIMEZONE
BEGIN:VEVENT
UID:7d3940b5f9608a310f5b575d05b2419c
SUMMARY:Michaela Kaune (Sopran), Symphonieorchester der HfMT Hamburg, Ulrich Windfuhr (Leitung)
URL:https://www.concerti.de/termine/michaela-kaune-sopran-symphonieorchester-der-hfmt-hamburg-ulrich-windfuhr-leitung-elbphilharmonie-893769/
DTSTART;TZID=Europe/Berlin:20260609T200000
DTEND;TZID=Europe/Berlin:20260609T220000
DESCRIPTION:Interpreten: Michaela Kaune (Sopran)\, Symphonieorchester der HfMT Hamburg\, Ulrich Windfuhr (Leitung) \nProgramm: Kampe: Drei Liebeslieder\, Mahler: Sinfonie Nr. 6 a-Moll \nhttps://www.concerti.de/termine/michaela-kaune-sopran-symphonieorchester-der-hfmt-hamburg-ulrich-windfuhr-leitung-elbphilharmonie-893769/
LOCATION:Elbphilharmonie\, Platz der Deutschen Einheit 1\, 20457 Hamburg
END:VEVENT
END:VCALENDAR