BEGIN:VCALENDAR
VERSION:2.0
PRODID:concerti//https://www.concerti.de
CALSCALE:GREGORIAN
BEGIN:VTIMEZONE
TZID:Europe/Berlin
X-LIC-LOCATION:Europe/Berlin
BEGIN:DAYLIGHT
TZOFFSETFROM:+0100
TZOFFSETTO:+0200
TZNAME:CEST
DTSTART:19700329T020000
RRULE:FREQ=YEARLY;BYMONTH=3;BYDAY=-1SU
END:DAYLIGHT
BEGIN:STANDARD
TZOFFSETFROM:+0200
TZOFFSETTO:+0100
TZNAME:CET
DTSTART:19701025T030000
RRULE:FREQ=YEARLY;BYMONTH=10;BYDAY=-1SU
END:STANDARD
END:VTIMEZONE
BEGIN:VEVENT
UID:e97dbc1ee62c2428c9800e4f4b2d1ba2
SUMMARY:Ryutaro Omura (Violine), Antonia Fischer (Violine), Yağmur Erdoğan (Viola), Johannes Dworatzek (Violoncello)
URL:https://www.concerti.de/termine/ryutaro-omura-violine-antonia-fischer-violine-yagmur-erdogan-viola-johannes-dworatzek-violoncello-893764/
DTSTART;TZID=Europe/Berlin:20260607T110000
DTEND;TZID=Europe/Berlin:20260607T130000
DESCRIPTION:Interpreten: Ryutaro Omura (Violine)\, Antonia Fischer (Violine)\, Yağmur Erdoğan (Viola)\, Johannes Dworatzek (Violoncello) \nProgramm: Mozart: Streichquartett Nr. 17 B-Dur KV 458 „Jagdquartett“\, Mendelssohn: Streichquartett Nr. 2 a-Moll op. 13 \nhttps://www.concerti.de/termine/ryutaro-omura-violine-antonia-fischer-violine-yagmur-erdogan-viola-johannes-dworatzek-violoncello-893764/
LOCATION:Schloss\, Schwerin
END:VEVENT
END:VCALENDAR