BEGIN:VCALENDAR
VERSION:2.0
PRODID:concerti//https://www.concerti.de
CALSCALE:GREGORIAN
BEGIN:VTIMEZONE
TZID:Europe/Berlin
X-LIC-LOCATION:Europe/Berlin
BEGIN:DAYLIGHT
TZOFFSETFROM:+0100
TZOFFSETTO:+0200
TZNAME:CEST
DTSTART:19700329T020000
RRULE:FREQ=YEARLY;BYMONTH=3;BYDAY=-1SU
END:DAYLIGHT
BEGIN:STANDARD
TZOFFSETFROM:+0200
TZOFFSETTO:+0100
TZNAME:CET
DTSTART:19701025T030000
RRULE:FREQ=YEARLY;BYMONTH=10;BYDAY=-1SU
END:STANDARD
END:VTIMEZONE
BEGIN:VEVENT
UID:403885bbac06a03e607bd6848c445a98
SUMMARY:Henriques – Hinrichsen: Eine jüdische Familiengeschichte in Liedern
URL:https://www.concerti.de/termine/henriques-hinrichsen-eine-juedische-familiengeschichte-in-liedern-hochschule-fuer-musik-und-theater-hamburg-893741/
DTSTART;TZID=Europe/Berlin:20260603T193000
DTEND;TZID=Europe/Berlin:20260603T213000
DESCRIPTION:Interpreten: Clarissa Renner (Gesang)\, Uwe Ulbrich-Rebec (Violine & Viola)\, Martin Steuber  (Laute & Gitarre)\, Hannes Malkowski (Schlawerk) \nhttps://www.concerti.de/termine/henriques-hinrichsen-eine-juedische-familiengeschichte-in-liedern-hochschule-fuer-musik-und-theater-hamburg-893741/
LOCATION:Hochschule für Musik und Theater Hamburg\, Harvestehuder Weg 12\, 20148 Hamburg
END:VEVENT
END:VCALENDAR