BEGIN:VCALENDAR
VERSION:2.0
PRODID:concerti//https://www.concerti.de
CALSCALE:GREGORIAN
BEGIN:VTIMEZONE
TZID:Europe/Berlin
X-LIC-LOCATION:Europe/Berlin
BEGIN:DAYLIGHT
TZOFFSETFROM:+0100
TZOFFSETTO:+0200
TZNAME:CEST
DTSTART:19700329T020000
RRULE:FREQ=YEARLY;BYMONTH=3;BYDAY=-1SU
END:DAYLIGHT
BEGIN:STANDARD
TZOFFSETFROM:+0200
TZOFFSETTO:+0100
TZNAME:CET
DTSTART:19701025T030000
RRULE:FREQ=YEARLY;BYMONTH=10;BYDAY=-1SU
END:STANDARD
END:VTIMEZONE
BEGIN:VEVENT
UID:122188c677100ce3aff75138babd9a44
SUMMARY:Konstantin Emelyanov (Klavier) - Pianissimo Festival
URL:https://www.concerti.de/termine/konstantin-emelyanov-klavier-laeiszhalle-893738/
DTSTART;TZID=Europe/Berlin:20260603T190000
DTEND;TZID=Europe/Berlin:20260603T210000
DESCRIPTION:Interpreten: Konstantin Emelyanov (Klavier) \nProgramm: Rameau: Suite e-Moll\, Ravel: Pavane pour une infante défunte\, Prokofjew: Zehn Stücke aus „Romeo und Julia“ op. 75\, Strawinsky: Drei Sätze aus „Petruschka“ \nhttps://www.concerti.de/termine/konstantin-emelyanov-klavier-laeiszhalle-893738/
LOCATION:Laeiszhalle\, Johannes-Brahms-Platz\, 20355 Hamburg
END:VEVENT
END:VCALENDAR