BEGIN:VCALENDAR
VERSION:2.0
PRODID:concerti//https://www.concerti.de
CALSCALE:GREGORIAN
BEGIN:VTIMEZONE
TZID:Europe/Berlin
X-LIC-LOCATION:Europe/Berlin
BEGIN:DAYLIGHT
TZOFFSETFROM:+0100
TZOFFSETTO:+0200
TZNAME:CEST
DTSTART:19700329T020000
RRULE:FREQ=YEARLY;BYMONTH=3;BYDAY=-1SU
END:DAYLIGHT
BEGIN:STANDARD
TZOFFSETFROM:+0200
TZOFFSETTO:+0100
TZNAME:CET
DTSTART:19701025T030000
RRULE:FREQ=YEARLY;BYMONTH=10;BYDAY=-1SU
END:STANDARD
END:VTIMEZONE
BEGIN:VEVENT
UID:eee8c670e1c03c8ccec8e0f246c5c96e
SUMMARY:Duo Tocar - Intersonanzen – Brandenburgisches Fest der Neuen Musik
URL:https://www.concerti.de/termine/duo-tocar-palais-lichtenau-893694/
DTSTART;TZID=Europe/Berlin:20260605T193000
DTEND;TZID=Europe/Berlin:20260605T213000
DESCRIPTION:Interpreten: Duo Tocar \nProgramm: Deppert: „Nach dem Regen: Wassertropfen im Zaun“ (UA)\, Domagala: 7 Visions (UA)\, Lang: cascades colorées (UA)\, Yao: Zerreiß das Licht (UA)\, Borowski: Twin\, Katzer: Aufgrund meiner Verehrung für D.S.\, Querfurth: Einschluss \nhttps://www.concerti.de/termine/duo-tocar-palais-lichtenau-893694/
LOCATION:Palais Lichtenau Potsdam\, Kurfürstenstraße 40\, 14467 Potsdam
END:VEVENT
END:VCALENDAR