BEGIN:VCALENDAR
VERSION:2.0
PRODID:concerti//https://www.concerti.de
CALSCALE:GREGORIAN
BEGIN:VTIMEZONE
TZID:Europe/Berlin
X-LIC-LOCATION:Europe/Berlin
BEGIN:DAYLIGHT
TZOFFSETFROM:+0100
TZOFFSETTO:+0200
TZNAME:CEST
DTSTART:19700329T020000
RRULE:FREQ=YEARLY;BYMONTH=3;BYDAY=-1SU
END:DAYLIGHT
BEGIN:STANDARD
TZOFFSETFROM:+0200
TZOFFSETTO:+0100
TZNAME:CET
DTSTART:19701025T030000
RRULE:FREQ=YEARLY;BYMONTH=10;BYDAY=-1SU
END:STANDARD
END:VTIMEZONE
BEGIN:VEVENT
UID:c93dc931448b028d9b5e47395576b68d
SUMMARY:Pia Davila (Sopran), Neža Torkar (Akkordeon) - Intersonanzen – Brandenburgisches Fest der Neuen Musik
URL:https://www.concerti.de/termine/pia-davila-sopran-neza-torkar-akkordeon-893688/
DTSTART;TZID=Europe/Berlin:20260604T203000
DTEND;TZID=Europe/Berlin:20260604T223000
DESCRIPTION:Interpreten: Pia Davila (Sopran)\, Neža Torkar (Akkordeon) \nProgramm: Seilova: bärenmarkt\, Cyz: Rede-Wendungen (UA)\, Petzold: Planspiele II (UA)\, Nascimento: Surgical Aphasia (UA)\, Romano: Neues Werk (UA) \nhttps://www.concerti.de/termine/pia-davila-sopran-neza-torkar-akkordeon-893688/
LOCATION:museum FLUXUS+\, Potsdam
END:VEVENT
END:VCALENDAR