BEGIN:VCALENDAR
VERSION:2.0
PRODID:concerti//https://www.concerti.de
CALSCALE:GREGORIAN
BEGIN:VTIMEZONE
TZID:Europe/Berlin
X-LIC-LOCATION:Europe/Berlin
BEGIN:DAYLIGHT
TZOFFSETFROM:+0100
TZOFFSETTO:+0200
TZNAME:CEST
DTSTART:19700329T020000
RRULE:FREQ=YEARLY;BYMONTH=3;BYDAY=-1SU
END:DAYLIGHT
BEGIN:STANDARD
TZOFFSETFROM:+0200
TZOFFSETTO:+0100
TZNAME:CET
DTSTART:19701025T030000
RRULE:FREQ=YEARLY;BYMONTH=10;BYDAY=-1SU
END:STANDARD
END:VTIMEZONE
BEGIN:VEVENT
UID:0ffac5252a9a8941d6a8fbd42679add2
SUMMARY:The Queen’s Six
URL:https://www.concerti.de/termine/the-queens-six-893532/
DTSTART;TZID=Europe/Berlin:20260531T170000
DTEND;TZID=Europe/Berlin:20260531T190000
DESCRIPTION:Interpreten: The Queen’s Six \nProgramm: Werke von Byrd\, Tallis u. a. \nhttps://www.concerti.de/termine/the-queens-six-893532/
LOCATION:Salvatorkirche\, Duisburg
END:VEVENT
END:VCALENDAR