BEGIN:VCALENDAR
VERSION:2.0
PRODID:concerti//https://www.concerti.de
CALSCALE:GREGORIAN
BEGIN:VTIMEZONE
TZID:Europe/Berlin
X-LIC-LOCATION:Europe/Berlin
BEGIN:DAYLIGHT
TZOFFSETFROM:+0100
TZOFFSETTO:+0200
TZNAME:CEST
DTSTART:19700329T020000
RRULE:FREQ=YEARLY;BYMONTH=3;BYDAY=-1SU
END:DAYLIGHT
BEGIN:STANDARD
TZOFFSETFROM:+0200
TZOFFSETTO:+0100
TZNAME:CET
DTSTART:19701025T030000
RRULE:FREQ=YEARLY;BYMONTH=10;BYDAY=-1SU
END:STANDARD
END:VTIMEZONE
BEGIN:VEVENT
UID:3d7c83d4b125041445262a92f3a24f21
SUMMARY:Chen Reiss (Sopran), Tom Zalmanov (Klavier) u. a. - Rheinvokal
URL:https://www.concerti.de/termine/chen-reiss-sopran-tom-zalmanov-klavier-u-a-arp-museum-bahnhof-rolandseck-2-893504/
DTSTART;TZID=Europe/Berlin:20260801T180000
DTEND;TZID=Europe/Berlin:20260801T200000
DESCRIPTION:Interpreten: Chen Reiss (Sopran)\, Tom Zalmanov (Klavier) u. a. \nProgramm: Werke von Mozart\, Rossini\, Bellini\, Verdi & Puccini \nhttps://www.concerti.de/termine/chen-reiss-sopran-tom-zalmanov-klavier-u-a-arp-museum-bahnhof-rolandseck-2-893504/
LOCATION:Arp Museum Bahnhof Rolandseck\, Hans-Arp-Allee 1\, 53424 Remagen
END:VEVENT
END:VCALENDAR