BEGIN:VCALENDAR
VERSION:2.0
PRODID:concerti//https://www.concerti.de
CALSCALE:GREGORIAN
BEGIN:VTIMEZONE
TZID:Europe/Berlin
X-LIC-LOCATION:Europe/Berlin
BEGIN:DAYLIGHT
TZOFFSETFROM:+0100
TZOFFSETTO:+0200
TZNAME:CEST
DTSTART:19700329T020000
RRULE:FREQ=YEARLY;BYMONTH=3;BYDAY=-1SU
END:DAYLIGHT
BEGIN:STANDARD
TZOFFSETFROM:+0200
TZOFFSETTO:+0100
TZNAME:CET
DTSTART:19701025T030000
RRULE:FREQ=YEARLY;BYMONTH=10;BYDAY=-1SU
END:STANDARD
END:VTIMEZONE
BEGIN:VEVENT
UID:0054a4e2163bfa3d47b066b40304d43e
SUMMARY:SWR Vokalensemble, Ensemble Ascolta, Benjamin Goodson (Leitung) - Rheinvokal
URL:https://www.concerti.de/termine/swr-vokalensemble-ensemble-ascolta-benjamin-goodson-leitung-893498/
DTSTART;TZID=Europe/Berlin:20260728T200000
DTEND;TZID=Europe/Berlin:20260728T220000
DESCRIPTION:Interpreten: SWR Vokalensemble\, Ensemble Ascolta\, Benjamin Goodson (Leitung) \nProgramm: Weill: Berliner Requiem\, Britten: Ad Maiorem Dei Gloriam & Sacred and Profane op. 91\, Svoboda: Moon Child (UA) \nhttps://www.concerti.de/termine/swr-vokalensemble-ensemble-ascolta-benjamin-goodson-leitung-893498/
LOCATION:St. Kastor\, Koblenz
END:VEVENT
END:VCALENDAR