BEGIN:VCALENDAR
VERSION:2.0
PRODID:concerti//https://www.concerti.de
CALSCALE:GREGORIAN
BEGIN:VTIMEZONE
TZID:Europe/Berlin
X-LIC-LOCATION:Europe/Berlin
BEGIN:DAYLIGHT
TZOFFSETFROM:+0100
TZOFFSETTO:+0200
TZNAME:CEST
DTSTART:19700329T020000
RRULE:FREQ=YEARLY;BYMONTH=3;BYDAY=-1SU
END:DAYLIGHT
BEGIN:STANDARD
TZOFFSETFROM:+0200
TZOFFSETTO:+0100
TZNAME:CET
DTSTART:19701025T030000
RRULE:FREQ=YEARLY;BYMONTH=10;BYDAY=-1SU
END:STANDARD
END:VTIMEZONE
BEGIN:VEVENT
UID:e6c4287194a67c5a5755069e6c95abc6
SUMMARY:Rheinische Kantorei, Edzard Burchards (Leitung) - Rheinvokal
URL:https://www.concerti.de/termine/rheinische-kantorei-edzard-burchards-leitung-893494/
DTSTART;TZID=Europe/Berlin:20260726T190000
DTEND;TZID=Europe/Berlin:20260726T210000
DESCRIPTION:Interpreten: Rheinische Kantorei\, Edzard Burchards (Leitung) \nProgramm: J. S. Bach: Singet dem Herrn ein neues Lied BWV 225\, Der Geist hilft unsrer Schwachheit auf BWV 226\, Komm\, Jesu\, komm BWV 229 & Vier Duette BWV 802-805\, Schelle: Christus ist des Gesetzes Ende\, Rosenmüller: Mein Gott\, betrübt ist meine Seele\, Michael: In Angst und Not\, Doles: Herr wer bin ich\, Krebs: Erforsche mich Gott\, Werke von Hiller & Telemann \nhttps://www.concerti.de/termine/rheinische-kantorei-edzard-burchards-leitung-893494/
LOCATION:Abteikirche Maria Laach\, Glees
END:VEVENT
END:VCALENDAR