BEGIN:VCALENDAR
VERSION:2.0
PRODID:concerti//https://www.concerti.de
CALSCALE:GREGORIAN
BEGIN:VTIMEZONE
TZID:Europe/Berlin
X-LIC-LOCATION:Europe/Berlin
BEGIN:DAYLIGHT
TZOFFSETFROM:+0100
TZOFFSETTO:+0200
TZNAME:CEST
DTSTART:19700329T020000
RRULE:FREQ=YEARLY;BYMONTH=3;BYDAY=-1SU
END:DAYLIGHT
BEGIN:STANDARD
TZOFFSETFROM:+0200
TZOFFSETTO:+0100
TZNAME:CET
DTSTART:19701025T030000
RRULE:FREQ=YEARLY;BYMONTH=10;BYDAY=-1SU
END:STANDARD
END:VTIMEZONE
BEGIN:VEVENT
UID:dec9e4dcda522cab368bcb15c4bfe744
SUMMARY:Heggie: Dead Man Walking
URL:https://www.concerti.de/termine/heggie-dead-man-walking-pfalztheater-kaiserslautern-893313/
DTSTART;TZID=Europe/Berlin:20260625T193000
DTEND;TZID=Europe/Berlin:20260625T213000
DESCRIPTION:Interpreten: Anna Harvey (Sister Helen Prejean)\, Hyunkyum Kim (Joseph de Rocher)\, Bethany Yeaman (Mrs. Patrick de Rocher)\, Jelena Bankovic (Sister Rose)\, Johannes Fritsche (Owen Hart)\, Valerie Gels (Kitty Hart)\, Olivier Pols (Leitung)\, Philipp Westerbarkei (Regie) \nhttps://www.concerti.de/termine/heggie-dead-man-walking-pfalztheater-kaiserslautern-893313/
LOCATION:Pfalztheater\, Willy-Brandt-Platz 4-5\, 67657 Kaiserslautern
END:VEVENT
END:VCALENDAR