BEGIN:VCALENDAR
VERSION:2.0
PRODID:concerti//https://www.concerti.de
CALSCALE:GREGORIAN
BEGIN:VTIMEZONE
TZID:Europe/Berlin
X-LIC-LOCATION:Europe/Berlin
BEGIN:DAYLIGHT
TZOFFSETFROM:+0100
TZOFFSETTO:+0200
TZNAME:CEST
DTSTART:19700329T020000
RRULE:FREQ=YEARLY;BYMONTH=3;BYDAY=-1SU
END:DAYLIGHT
BEGIN:STANDARD
TZOFFSETFROM:+0200
TZOFFSETTO:+0100
TZNAME:CET
DTSTART:19701025T030000
RRULE:FREQ=YEARLY;BYMONTH=10;BYDAY=-1SU
END:STANDARD
END:VTIMEZONE
BEGIN:VEVENT
UID:646440bfd71b183cba9a3fee9f375692
SUMMARY:Dorota Szczepańska (Sopran),  Peter Schwebs (Kontrabass), Alon Sariel (Laute) - Rheinvokal
URL:https://www.concerti.de/termine/dorota-szczepanska-sopran-peter-schwebs-kontrabass-alon-sariel-laute-893407/
DTSTART;TZID=Europe/Berlin:20260621T180000
DTEND;TZID=Europe/Berlin:20260621T200000
DESCRIPTION:Interpreten: Dorota Szczepańska (Sopran)\,  Peter Schwebs (Kontrabass)\, Alon Sariel (Laute) \nProgramm: Monteverdi: Lamento der Arianna & Lamento della Ninfa\, Händel: Lascia ch’io pianga\, Purcell: Music for a while\, J. S. Bach: Air aus Orchestersuite Nr. 3 D-Dur\, Sting: Shape of my Heart\, Werke von Hisaishi\, Løvland\, Stradella\, Biber\, Strozzi u. a. \nhttps://www.concerti.de/termine/dorota-szczepanska-sopran-peter-schwebs-kontrabass-alon-sariel-laute-893407/
LOCATION:Herrnhuter Brüdergemeinde\, Neuwied
END:VEVENT
END:VCALENDAR