BEGIN:VCALENDAR
VERSION:2.0
PRODID:concerti//https://www.concerti.de
CALSCALE:GREGORIAN
BEGIN:VTIMEZONE
TZID:Europe/Berlin
X-LIC-LOCATION:Europe/Berlin
BEGIN:DAYLIGHT
TZOFFSETFROM:+0100
TZOFFSETTO:+0200
TZNAME:CEST
DTSTART:19700329T020000
RRULE:FREQ=YEARLY;BYMONTH=3;BYDAY=-1SU
END:DAYLIGHT
BEGIN:STANDARD
TZOFFSETFROM:+0200
TZOFFSETTO:+0100
TZNAME:CET
DTSTART:19701025T030000
RRULE:FREQ=YEARLY;BYMONTH=10;BYDAY=-1SU
END:STANDARD
END:VTIMEZONE
BEGIN:VEVENT
UID:ec3ff321b09109ba3c94c78883040871
SUMMARY:Mitglieder der Pfalzphilharmonie Kaiserslautern
URL:https://www.concerti.de/termine/mitglieder-der-pfalzphilharmonie-kaiserslautern-pfalztheater-kaiserslautern-893404/
DTSTART;TZID=Europe/Berlin:20260621T110000
DTEND;TZID=Europe/Berlin:20260621T130000
DESCRIPTION:Interpreten: Mitglieder der Pfalzphilharmonie Kaiserslautern \nProgramm: Haydn: Streichquartett op. 1/1 B-Dur\, Silvestrov: Streichquartett Nr. 1\, Beethoven: Streichquartett Nr. 15 a-Moll op. 132 \nhttps://www.concerti.de/termine/mitglieder-der-pfalzphilharmonie-kaiserslautern-pfalztheater-kaiserslautern-893404/
LOCATION:Pfalztheater\, Willy-Brandt-Platz 4-5\, 67657 Kaiserslautern
END:VEVENT
END:VCALENDAR