BEGIN:VCALENDAR
VERSION:2.0
PRODID:concerti//https://www.concerti.de
CALSCALE:GREGORIAN
BEGIN:VTIMEZONE
TZID:Europe/Berlin
X-LIC-LOCATION:Europe/Berlin
BEGIN:DAYLIGHT
TZOFFSETFROM:+0100
TZOFFSETTO:+0200
TZNAME:CEST
DTSTART:19700329T020000
RRULE:FREQ=YEARLY;BYMONTH=3;BYDAY=-1SU
END:DAYLIGHT
BEGIN:STANDARD
TZOFFSETFROM:+0200
TZOFFSETTO:+0100
TZNAME:CET
DTSTART:19701025T030000
RRULE:FREQ=YEARLY;BYMONTH=10;BYDAY=-1SU
END:STANDARD
END:VTIMEZONE
BEGIN:VEVENT
UID:0beb3412bb21603d481eba136dac8405
SUMMARY:Borsch4Breakfast - Heidelberger Frühling Liedfestival
URL:https://www.concerti.de/termine/borsch4breakfast-kongresshaus-stadthalle-heidelberg-893383/
DTSTART;TZID=Europe/Berlin:20260620T110000
DTEND;TZID=Europe/Berlin:20260620T130000
DESCRIPTION:Interpreten: Borsch4Breakfast \nhttps://www.concerti.de/termine/borsch4breakfast-kongresshaus-stadthalle-heidelberg-893383/
LOCATION:Konzerthaus Stadthalle Heidelberg\, Neckarstaden 24\, 69117 Heidelberg
END:VEVENT
END:VCALENDAR