BEGIN:VCALENDAR
VERSION:2.0
PRODID:concerti//https://www.concerti.de
CALSCALE:GREGORIAN
BEGIN:VTIMEZONE
TZID:Europe/Berlin
X-LIC-LOCATION:Europe/Berlin
BEGIN:DAYLIGHT
TZOFFSETFROM:+0100
TZOFFSETTO:+0200
TZNAME:CEST
DTSTART:19700329T020000
RRULE:FREQ=YEARLY;BYMONTH=3;BYDAY=-1SU
END:DAYLIGHT
BEGIN:STANDARD
TZOFFSETFROM:+0200
TZOFFSETTO:+0100
TZNAME:CET
DTSTART:19701025T030000
RRULE:FREQ=YEARLY;BYMONTH=10;BYDAY=-1SU
END:STANDARD
END:VTIMEZONE
BEGIN:VEVENT
UID:50f2abbe244950af6eeaff5eb8ccaf68
SUMMARY:Jonas Müller (Bariton), Gerold Huber (Klavier) - Heidelberger Frühling Liedfestival
URL:https://www.concerti.de/termine/jonas-mueller-bariton-gerold-huber-klavier-alte-aula-der-universitaet-heidelberg-893342/
DTSTART;TZID=Europe/Berlin:20260616T193000
DTEND;TZID=Europe/Berlin:20260616T213000
DESCRIPTION:Interpreten: Jonas Müller (Bariton)\, Gerold Huber (Klavier) \nProgramm: Schubert: Dem Unendlichen\, Ganymed & Atys\, J. S. Bach: Ich steh an deiner Krippen hier BWV 469 & Komm süßer Tod BWV 478\, Martin: Sechs Monologe aus „Jedermann“ u. a. \nhttps://www.concerti.de/termine/jonas-mueller-bariton-gerold-huber-klavier-alte-aula-der-universitaet-heidelberg-893342/
LOCATION:Alte Aula Heidelberg\, Grabengasse 1\, 69117 Heidelberg
END:VEVENT
END:VCALENDAR