BEGIN:VCALENDAR
VERSION:2.0
PRODID:concerti//https://www.concerti.de
CALSCALE:GREGORIAN
BEGIN:VTIMEZONE
TZID:Europe/Berlin
X-LIC-LOCATION:Europe/Berlin
BEGIN:DAYLIGHT
TZOFFSETFROM:+0100
TZOFFSETTO:+0200
TZNAME:CEST
DTSTART:19700329T020000
RRULE:FREQ=YEARLY;BYMONTH=3;BYDAY=-1SU
END:DAYLIGHT
BEGIN:STANDARD
TZOFFSETFROM:+0200
TZOFFSETTO:+0100
TZNAME:CET
DTSTART:19701025T030000
RRULE:FREQ=YEARLY;BYMONTH=10;BYDAY=-1SU
END:STANDARD
END:VTIMEZONE
BEGIN:VEVENT
UID:4dff5b4e5700ff6241fc9920ebcd94a7
SUMMARY:Gaëlle Arquez (Carmen), Cassandra Wright (Frasquita), Yewon Kim (Mercedes), Roberto Gionfriddo (Don José), Philharmonisches Orchester der Stadt Freiburg, André de Ridder (Leitung)
URL:https://www.concerti.de/termine/gaelle-arquez-carmen-cassandra-wright-frasquita-yewon-kim-mercedes-roberto-gionfriddo-don-jose-philharmonisches-orchester-der-stadt-freiburg-andre-de-ridder-leitung-893296/
DTSTART;TZID=Europe/Berlin:20260609T200000
DTEND;TZID=Europe/Berlin:20260609T220000
DESCRIPTION:Interpreten: Gaëlle Arquez (Carmen)\, Cassandra Wright (Frasquita)\, Yewon Kim (Mercedes)\, Roberto Gionfriddo (Don José)\, Philharmonisches Orchester der Stadt Freiburg\, André de Ridder (Leitung) \nProgramm: Ravel: Bolero\, Falla: Danza ritual del fuego aus „Amor Brujo“\, Bizet: Carmen (Auszüge) \nhttps://www.concerti.de/termine/gaelle-arquez-carmen-cassandra-wright-frasquita-yewon-kim-mercedes-roberto-gionfriddo-don-jose-philharmonisches-orchester-der-stadt-freiburg-andre-de-ridder-leitung-893296/
LOCATION:Münsterplatz\, Freiburg
END:VEVENT
END:VCALENDAR