BEGIN:VCALENDAR
VERSION:2.0
PRODID:concerti//https://www.concerti.de
CALSCALE:GREGORIAN
BEGIN:VTIMEZONE
TZID:Europe/Berlin
X-LIC-LOCATION:Europe/Berlin
BEGIN:DAYLIGHT
TZOFFSETFROM:+0100
TZOFFSETTO:+0200
TZNAME:CEST
DTSTART:19700329T020000
RRULE:FREQ=YEARLY;BYMONTH=3;BYDAY=-1SU
END:DAYLIGHT
BEGIN:STANDARD
TZOFFSETFROM:+0200
TZOFFSETTO:+0100
TZNAME:CET
DTSTART:19701025T030000
RRULE:FREQ=YEARLY;BYMONTH=10;BYDAY=-1SU
END:STANDARD
END:VTIMEZONE
BEGIN:VEVENT
UID:5b951fc4f61821dbaac5b6c3b621e6be
SUMMARY:Ensemble Tastenwind &amp; Studierende des Precollege am Tiroler Landeskonservatorium - HDM in Concert
URL:https://www.concerti.de/termine/ensemble-tastenwind-studierende-des-precollege-am-tiroler-landeskonservatorium-haus-der-musik-innsbruck-893173/
DTSTART;TZID=Europe/Berlin:20270127T193000
DTEND;TZID=Europe/Berlin:20270127T213000
DESCRIPTION:Interpreten: Ensemble Tastenwind & Studierende des Precollege am Tiroler Landeskonservatorium \nhttps://www.concerti.de/termine/ensemble-tastenwind-studierende-des-precollege-am-tiroler-landeskonservatorium-haus-der-musik-innsbruck-893173/
LOCATION:Haus der Musik Innsbruck\, Universitätsstraße 1\, 6020 Innsbruck
END:VEVENT
END:VCALENDAR