BEGIN:VCALENDAR
VERSION:2.0
PRODID:concerti//https://www.concerti.de
CALSCALE:GREGORIAN
BEGIN:VTIMEZONE
TZID:Europe/Berlin
X-LIC-LOCATION:Europe/Berlin
BEGIN:DAYLIGHT
TZOFFSETFROM:+0100
TZOFFSETTO:+0200
TZNAME:CEST
DTSTART:19700329T020000
RRULE:FREQ=YEARLY;BYMONTH=3;BYDAY=-1SU
END:DAYLIGHT
BEGIN:STANDARD
TZOFFSETFROM:+0200
TZOFFSETTO:+0100
TZNAME:CET
DTSTART:19701025T030000
RRULE:FREQ=YEARLY;BYMONTH=10;BYDAY=-1SU
END:STANDARD
END:VTIMEZONE
BEGIN:VEVENT
UID:6f1c132ce323da14bd94f92c9f450fdc
SUMMARY:Dreams Cuvée – Salon Konzert
URL:https://www.concerti.de/termine/dreams-cuvee-salon-konzert-893148/
DTSTART;TZID=Europe/Berlin:20260530T193000
DTEND;TZID=Europe/Berlin:20260530T213000
DESCRIPTION:Interpreten: Susanna Chakhoian (Sopran)\, Marley Erickson (Violine)\, Éva Osztrosits (Violine)\, Veronika Körmendy (Viola)\, Antal Suha (Kontrabass)\, Cristina Galietto (Gitarre) \nhttps://www.concerti.de/termine/dreams-cuvee-salon-konzert-893148/
LOCATION:Schloss Esterházy\, Lockenhaus
END:VEVENT
END:VCALENDAR