BEGIN:VCALENDAR
VERSION:2.0
PRODID:concerti//https://www.concerti.de
CALSCALE:GREGORIAN
BEGIN:VTIMEZONE
TZID:Europe/Berlin
X-LIC-LOCATION:Europe/Berlin
BEGIN:DAYLIGHT
TZOFFSETFROM:+0100
TZOFFSETTO:+0200
TZNAME:CEST
DTSTART:19700329T020000
RRULE:FREQ=YEARLY;BYMONTH=3;BYDAY=-1SU
END:DAYLIGHT
BEGIN:STANDARD
TZOFFSETFROM:+0200
TZOFFSETTO:+0100
TZNAME:CET
DTSTART:19701025T030000
RRULE:FREQ=YEARLY;BYMONTH=10;BYDAY=-1SU
END:STANDARD
END:VTIMEZONE
BEGIN:VEVENT
UID:4c9524ca47be090bf359da544c9b1f51
SUMMARY:Jihyun Cecilia Lee (Sopran), Yeo-Jin Noh (Violine), Annabel Nolte (Violine), Elisabeth Schneider (Viola), Jakob Janeschitz-Kriegl (Violoncello), Mimi Park (Klavier)
URL:https://www.concerti.de/termine/jihyun-cecilia-lee-sopran-yeo-jin-noh-violine-annabel-nolte-violine-elisabeth-schneider-viola-jakob-janeschitz-kriegl-violoncello-mimi-park-klavier-kleiner-goldener-saal-augsburg-892782/
DTSTART;TZID=Europe/Berlin:20260614T110000
DTEND;TZID=Europe/Berlin:20260614T130000
DESCRIPTION:Interpreten: Jihyun Cecilia Lee (Sopran)\, Yeo-Jin Noh (Violine)\, Annabel Nolte (Violine)\, Elisabeth Schneider (Viola)\, Jakob Janeschitz-Kriegl (Violoncello)\, Mimi Park (Klavier) \nProgramm: Werke von Schostakowitsch & Beethoven \nhttps://www.concerti.de/termine/jihyun-cecilia-lee-sopran-yeo-jin-noh-violine-annabel-nolte-violine-elisabeth-schneider-viola-jakob-janeschitz-kriegl-violoncello-mimi-park-klavier-kleiner-goldener-saal-augsburg-892782/
LOCATION:Kleiner Goldener Saal Augsburg\, Jesuitengasse 12\, 86152 Augsburg
END:VEVENT
END:VCALENDAR