BEGIN:VCALENDAR
VERSION:2.0
PRODID:concerti//https://www.concerti.de
CALSCALE:GREGORIAN
BEGIN:VTIMEZONE
TZID:Europe/Berlin
X-LIC-LOCATION:Europe/Berlin
BEGIN:DAYLIGHT
TZOFFSETFROM:+0100
TZOFFSETTO:+0200
TZNAME:CEST
DTSTART:19700329T020000
RRULE:FREQ=YEARLY;BYMONTH=3;BYDAY=-1SU
END:DAYLIGHT
BEGIN:STANDARD
TZOFFSETFROM:+0200
TZOFFSETTO:+0100
TZNAME:CET
DTSTART:19701025T030000
RRULE:FREQ=YEARLY;BYMONTH=10;BYDAY=-1SU
END:STANDARD
END:VTIMEZONE
BEGIN:VEVENT
UID:7f358f16ed09692e0ad39cc68ef70df6
SUMMARY:Bellini: I Capuleti e i Montecchi
URL:https://www.concerti.de/termine/bellini-i-capuleti-e-i-montecchi-staatsoper-wien-892551/
DTSTART:20270619
DURATION:P1D
DESCRIPTION:Interpreten: Matheus França (Capellio)\, Lisette Oropesa (Giulietta)\, Emily D\'Angelo (Romeo)\, Iván Ayon Rivas (Tebaldo)\, Marko Mimica (Lorenzo)\, Gianluca Capuano (Leitung)\, Tatjana Gürbaca (Regie) \nhttps://www.concerti.de/termine/bellini-i-capuleti-e-i-montecchi-staatsoper-wien-892551/
LOCATION:Wiener Staatsoper\, Opernring 2\, 1010 Wien
END:VEVENT
END:VCALENDAR