BEGIN:VCALENDAR
VERSION:2.0
PRODID:concerti//https://www.concerti.de
CALSCALE:GREGORIAN
BEGIN:VTIMEZONE
TZID:Europe/Berlin
X-LIC-LOCATION:Europe/Berlin
BEGIN:DAYLIGHT
TZOFFSETFROM:+0100
TZOFFSETTO:+0200
TZNAME:CEST
DTSTART:19700329T020000
RRULE:FREQ=YEARLY;BYMONTH=3;BYDAY=-1SU
END:DAYLIGHT
BEGIN:STANDARD
TZOFFSETFROM:+0200
TZOFFSETTO:+0100
TZNAME:CET
DTSTART:19701025T030000
RRULE:FREQ=YEARLY;BYMONTH=10;BYDAY=-1SU
END:STANDARD
END:VTIMEZONE
BEGIN:VEVENT
UID:6ab4d6622cf866b412f3ef6fe7f31555
SUMMARY:Berg: Lulu
URL:https://www.concerti.de/termine/berg-lulu-staatsoper-wien-892516/
DTSTART:20270526
DURATION:P1D
DESCRIPTION:Interpreten: Ilia Staple (Lulu)\, Tanja Ariane Baumgartner (Gräfin Geschwitz)\, Margaret Plummer (Gymnasiast & Groom)\, Georg Nigl (Dr. Schön & Jack the Ripper)\, Sean Panikkar (Alwa)\, Wolfgang Bankl (Schigolch)\, Olafur Sigurðarson (Tierbändiger & Athlet)\, Simone Young (Leitung)\, Willy Decker (Regie) \nhttps://www.concerti.de/termine/berg-lulu-staatsoper-wien-892516/
LOCATION:Wiener Staatsoper\, Opernring 2\, 1010 Wien
END:VEVENT
END:VCALENDAR