BEGIN:VCALENDAR
VERSION:2.0
PRODID:concerti//https://www.concerti.de
CALSCALE:GREGORIAN
BEGIN:VTIMEZONE
TZID:Europe/Berlin
X-LIC-LOCATION:Europe/Berlin
BEGIN:DAYLIGHT
TZOFFSETFROM:+0100
TZOFFSETTO:+0200
TZNAME:CEST
DTSTART:19700329T020000
RRULE:FREQ=YEARLY;BYMONTH=3;BYDAY=-1SU
END:DAYLIGHT
BEGIN:STANDARD
TZOFFSETFROM:+0200
TZOFFSETTO:+0100
TZNAME:CET
DTSTART:19701025T030000
RRULE:FREQ=YEARLY;BYMONTH=10;BYDAY=-1SU
END:STANDARD
END:VTIMEZONE
BEGIN:VEVENT
UID:28f7718a928f4788fce1be9146c2bae8
SUMMARY:Tschaikowsky: Pique Dame
URL:https://www.concerti.de/termine/tschaikowsky-pique-dame-staatsoper-wien-892421/
DTSTART:20270324
DURATION:P1D
DESCRIPTION:Interpreten: Ivan Gyngazov (Hermann)\, Boris Pinkhasovich (Tomski)\, Andrey Zhilikhovsky (Jeletzki)\, Matthäus Schmidlechner (Tschekalinski)\, Ivo Stanchev (Surin)\, Violeta Urmana (Gräfin)\, Elena Stikhina (Lisa)\, Daria Sushkova (Polina)\, Alexander Soddy (Leitung)\, Evgeny Titov (Regie) \nhttps://www.concerti.de/termine/tschaikowsky-pique-dame-staatsoper-wien-892421/
LOCATION:Wiener Staatsoper\, Opernring 2\, 1010 Wien
END:VEVENT
END:VCALENDAR