BEGIN:VCALENDAR
VERSION:2.0
PRODID:concerti//https://www.concerti.de
CALSCALE:GREGORIAN
BEGIN:VTIMEZONE
TZID:Europe/Berlin
X-LIC-LOCATION:Europe/Berlin
BEGIN:DAYLIGHT
TZOFFSETFROM:+0100
TZOFFSETTO:+0200
TZNAME:CEST
DTSTART:19700329T020000
RRULE:FREQ=YEARLY;BYMONTH=3;BYDAY=-1SU
END:DAYLIGHT
BEGIN:STANDARD
TZOFFSETFROM:+0200
TZOFFSETTO:+0100
TZNAME:CET
DTSTART:19701025T030000
RRULE:FREQ=YEARLY;BYMONTH=10;BYDAY=-1SU
END:STANDARD
END:VTIMEZONE
BEGIN:VEVENT
UID:a0b8ae4bf5ba3f11cc56d20bff890bf6
SUMMARY:Verdi: Un ballo in maschera
URL:https://www.concerti.de/termine/verdi-un-ballo-in-maschera-staatsoper-wien-892386/
DTSTART:20270224
DURATION:P1D
DESCRIPTION:Interpreten: Freddie De Tommaso (Gustavo III.)\, Luca Salsi (Ankarström)\, Marina Rebeka (Amelia)\, Marie-Nicole Lemieux (Ulrica)\, Ilia Staple (Oscar)\, Michele Mariotti (Leitung)\, Nikolaus Habjan (Regie)\, Freddie De Tommaso (Gustavo III.)\, Luca Salsi (Ankarström)\, Anna Netrebko (Amelia)\, Elizabeth DeShong (Ulrica)\, Marina Monzó (Oscar)\, Marco Armiliato (Leitung)\, Nikolaus Habjan (Regie) \nhttps://www.concerti.de/termine/verdi-un-ballo-in-maschera-staatsoper-wien-892386/
LOCATION:Wiener Staatsoper\, Opernring 2\, 1010 Wien
END:VEVENT
END:VCALENDAR