BEGIN:VCALENDAR
VERSION:2.0
PRODID:concerti//https://www.concerti.de
CALSCALE:GREGORIAN
BEGIN:VTIMEZONE
TZID:Europe/Berlin
X-LIC-LOCATION:Europe/Berlin
BEGIN:DAYLIGHT
TZOFFSETFROM:+0100
TZOFFSETTO:+0200
TZNAME:CEST
DTSTART:19700329T020000
RRULE:FREQ=YEARLY;BYMONTH=3;BYDAY=-1SU
END:DAYLIGHT
BEGIN:STANDARD
TZOFFSETFROM:+0200
TZOFFSETTO:+0100
TZNAME:CET
DTSTART:19701025T030000
RRULE:FREQ=YEARLY;BYMONTH=10;BYDAY=-1SU
END:STANDARD
END:VTIMEZONE
BEGIN:VEVENT
UID:75ec17204cddc18524bc1f95a8bb299c
SUMMARY:Jonas Kaufmann (Tenor), Helmut Deutsch (Klavier) - Grosse Stimmen
URL:https://www.concerti.de/termine/jonas-kaufmann-tenor-helmut-deutsch-klavier-staatsoper-wien-892349/
DTSTART:20270126
DURATION:P1D
DESCRIPTION:Interpreten: Jonas Kaufmann (Tenor)\, Helmut Deutsch (Klavier) \nhttps://www.concerti.de/termine/jonas-kaufmann-tenor-helmut-deutsch-klavier-staatsoper-wien-892349/
LOCATION:Wiener Staatsoper\, Opernring 2\, 1010 Wien
END:VEVENT
END:VCALENDAR