BEGIN:VCALENDAR
VERSION:2.0
PRODID:concerti//https://www.concerti.de
CALSCALE:GREGORIAN
BEGIN:VTIMEZONE
TZID:Europe/Berlin
X-LIC-LOCATION:Europe/Berlin
BEGIN:DAYLIGHT
TZOFFSETFROM:+0100
TZOFFSETTO:+0200
TZNAME:CEST
DTSTART:19700329T020000
RRULE:FREQ=YEARLY;BYMONTH=3;BYDAY=-1SU
END:DAYLIGHT
BEGIN:STANDARD
TZOFFSETFROM:+0200
TZOFFSETTO:+0100
TZNAME:CET
DTSTART:19701025T030000
RRULE:FREQ=YEARLY;BYMONTH=10;BYDAY=-1SU
END:STANDARD
END:VTIMEZONE
BEGIN:VEVENT
UID:d1324e4e01af484697da731f14f42c9f
SUMMARY:J. Strauss (Sohn): Die Fledermaus
URL:https://www.concerti.de/termine/j-strauss-sohn-die-fledermaus-staatsoper-wien-668365/
DTSTART:20270101
DURATION:P1D
DESCRIPTION:Interpreten: Ludwig Mittelhammer (Gabriel von Eisenstein)\, Julia Kleiter (Rosalinde)\, Alexander Grassauer (Frank)\, Patricia Nolz (Prinz Orlofsky)\, Jörg Schneider (Alfred)\, Adrian Eröd (Dr. Falke)\, Nikola Hillebrand (Adele)\, Michael Niavarani (Frosch)\, Franz Welser-Möst (Leitung)\, Otto Schenk (Regie) \nhttps://www.concerti.de/termine/j-strauss-sohn-die-fledermaus-staatsoper-wien-668365/
LOCATION:Wiener Staatsoper\, Opernring 2\, 1010 Wien
END:VEVENT
END:VCALENDAR