BEGIN:VCALENDAR
VERSION:2.0
PRODID:concerti//https://www.concerti.de
CALSCALE:GREGORIAN
BEGIN:VTIMEZONE
TZID:Europe/Berlin
X-LIC-LOCATION:Europe/Berlin
BEGIN:DAYLIGHT
TZOFFSETFROM:+0100
TZOFFSETTO:+0200
TZNAME:CEST
DTSTART:19700329T020000
RRULE:FREQ=YEARLY;BYMONTH=3;BYDAY=-1SU
END:DAYLIGHT
BEGIN:STANDARD
TZOFFSETFROM:+0200
TZOFFSETTO:+0100
TZNAME:CET
DTSTART:19701025T030000
RRULE:FREQ=YEARLY;BYMONTH=10;BYDAY=-1SU
END:STANDARD
END:VTIMEZONE
BEGIN:VEVENT
UID:9cc0df05f77c9938d696dccb8284e5c7
SUMMARY:Zemlinsky: Eine Florentinische Tragödie &amp; Bartók: Herzog Blaubarts Burg
URL:https://www.concerti.de/termine/zemlinsky-eine-florentinische-tragoedie-bartok-herzog-blaubarts-burg-staatsoper-wien-892092/
DTSTART;TZID=Europe/Berlin:20261012T190000
DTEND;TZID=Europe/Berlin:20261012T210000
DESCRIPTION:Interpreten: Dmitry Golovnin (Guido Bardi)\, Christopher Maltman (Simone)\, Asmik Grigorian (Bianca & Judith)\, Florian Boesch (Herzog Blaubart)\, Alain Altinoglu (Leitung)\, Vasily Barkhatov (Regie) \nhttps://www.concerti.de/termine/zemlinsky-eine-florentinische-tragoedie-bartok-herzog-blaubarts-burg-staatsoper-wien-892092/
LOCATION:Wiener Staatsoper\, Opernring 2\, 1010 Wien
END:VEVENT
END:VCALENDAR