BEGIN:VCALENDAR
VERSION:2.0
PRODID:concerti//https://www.concerti.de
CALSCALE:GREGORIAN
BEGIN:VTIMEZONE
TZID:Europe/Berlin
X-LIC-LOCATION:Europe/Berlin
BEGIN:DAYLIGHT
TZOFFSETFROM:+0100
TZOFFSETTO:+0200
TZNAME:CEST
DTSTART:19700329T020000
RRULE:FREQ=YEARLY;BYMONTH=3;BYDAY=-1SU
END:DAYLIGHT
BEGIN:STANDARD
TZOFFSETFROM:+0200
TZOFFSETTO:+0100
TZNAME:CET
DTSTART:19701025T030000
RRULE:FREQ=YEARLY;BYMONTH=10;BYDAY=-1SU
END:STANDARD
END:VTIMEZONE
BEGIN:VEVENT
UID:dfa4b29d34a03caf5e1a46c3121df953
SUMMARY:Florina Ilie (Sopran), Bartosz Urbanowicz (Bass-Bariton) - Ensemblematinee
URL:https://www.concerti.de/termine/florina-ilie-sopran-bartosz-urbanowicz-bass-bariton-staatsoper-wien-892097/
DTSTART;TZID=Europe/Berlin:20261004T110000
DTEND;TZID=Europe/Berlin:20261004T130000
DESCRIPTION:Interpreten: Florina Ilie (Sopran)\, Bartosz Urbanowicz (Bass-Bariton) \nhttps://www.concerti.de/termine/florina-ilie-sopran-bartosz-urbanowicz-bass-bariton-staatsoper-wien-892097/
LOCATION:Wiener Staatsoper\, Opernring 2\, 1010 Wien
END:VEVENT
END:VCALENDAR