BEGIN:VCALENDAR
VERSION:2.0
PRODID:concerti//https://www.concerti.de
CALSCALE:GREGORIAN
BEGIN:VTIMEZONE
TZID:Europe/Berlin
X-LIC-LOCATION:Europe/Berlin
BEGIN:DAYLIGHT
TZOFFSETFROM:+0100
TZOFFSETTO:+0200
TZNAME:CEST
DTSTART:19700329T020000
RRULE:FREQ=YEARLY;BYMONTH=3;BYDAY=-1SU
END:DAYLIGHT
BEGIN:STANDARD
TZOFFSETFROM:+0200
TZOFFSETTO:+0100
TZNAME:CET
DTSTART:19701025T030000
RRULE:FREQ=YEARLY;BYMONTH=10;BYDAY=-1SU
END:STANDARD
END:VTIMEZONE
BEGIN:VEVENT
UID:b02a8544a3f9e41b00de71264f7435ca
SUMMARY:Cilèa: Adriana Lecouvreur
URL:https://www.concerti.de/termine/cilea-adriana-lecouvreur-staatsoper-wien-892023/
DTSTART;TZID=Europe/Berlin:20260914T183000
DTEND;TZID=Europe/Berlin:20260914T203000
DESCRIPTION:Interpreten: Luciano Ganci (Maurizio)\, Roberto Frontali (Michonnet)\, Ermonela Jaho (Adriana Lecouvreur)\, Elīna Garanča (La Principessa di Bouillon)\, Marco Armiliato (Leitung)\, David McVicar (Regie) \nhttps://www.concerti.de/termine/cilea-adriana-lecouvreur-staatsoper-wien-892023/
LOCATION:Wiener Staatsoper\, Opernring 2\, 1010 Wien
END:VEVENT
END:VCALENDAR