BEGIN:VCALENDAR
VERSION:2.0
PRODID:concerti//https://www.concerti.de
CALSCALE:GREGORIAN
BEGIN:VTIMEZONE
TZID:Europe/Berlin
X-LIC-LOCATION:Europe/Berlin
BEGIN:DAYLIGHT
TZOFFSETFROM:+0100
TZOFFSETTO:+0200
TZNAME:CEST
DTSTART:19700329T020000
RRULE:FREQ=YEARLY;BYMONTH=3;BYDAY=-1SU
END:DAYLIGHT
BEGIN:STANDARD
TZOFFSETFROM:+0200
TZOFFSETTO:+0100
TZNAME:CET
DTSTART:19701025T030000
RRULE:FREQ=YEARLY;BYMONTH=10;BYDAY=-1SU
END:STANDARD
END:VTIMEZONE
BEGIN:VEVENT
UID:8753f759169da7c73cd0b96335e29452
SUMMARY:András Schiff (Klavier), Staatskapelle Halle, Peter Gülke (Leitung) - Choriner Musiksommer
URL:https://www.concerti.de/termine/andras-schiff-klavier-staatskapelle-halle-peter-guelke-leitung-kloster-chorin-891985/
DTSTART;TZID=Europe/Berlin:20260823T150000
DTEND;TZID=Europe/Berlin:20260823T170000
DESCRIPTION:Interpreten: András Schiff (Klavier)\, Staatskapelle Halle\, Peter Gülke (Leitung) \nProgramm: Händel: Concerti grossi g-Moll\, Beethoven: Klavierkonzert Nr. 5 Es-Dur \nhttps://www.concerti.de/termine/andras-schiff-klavier-staatskapelle-halle-peter-guelke-leitung-kloster-chorin-891985/
LOCATION:Kloster Chorin\, Amt Chorin 11a\, 16230 Chorin
END:VEVENT
END:VCALENDAR