BEGIN:VCALENDAR
VERSION:2.0
PRODID:concerti//https://www.concerti.de
CALSCALE:GREGORIAN
BEGIN:VTIMEZONE
TZID:Europe/Berlin
X-LIC-LOCATION:Europe/Berlin
BEGIN:DAYLIGHT
TZOFFSETFROM:+0100
TZOFFSETTO:+0200
TZNAME:CEST
DTSTART:19700329T020000
RRULE:FREQ=YEARLY;BYMONTH=3;BYDAY=-1SU
END:DAYLIGHT
BEGIN:STANDARD
TZOFFSETFROM:+0200
TZOFFSETTO:+0100
TZNAME:CET
DTSTART:19701025T030000
RRULE:FREQ=YEARLY;BYMONTH=10;BYDAY=-1SU
END:STANDARD
END:VTIMEZONE
BEGIN:VEVENT
UID:103c2378818144f9ad30626f3ef74f61
SUMMARY:Darius Preuß (Violine), Philharmonisches Orchester Gorzów, Przemysław Fiugajski (Leitung) - Choriner Musiksommer
URL:https://www.concerti.de/termine/darius-preuss-violine-philharmonisches-orchester-gorzow-przemyslaw-fiugajski-leitung-kloster-chorin-891970/
DTSTART;TZID=Europe/Berlin:20260802T150000
DTEND;TZID=Europe/Berlin:20260802T170000
DESCRIPTION:Interpreten: Darius Preuß (Violine)\, Philharmonisches Orchester Gorzów\, Przemysław Fiugajski (Leitung) \nProgramm: Kurpiński: Ouvertüre zu „Zwei Hütten“\, Beethoven: Romanze F-Dur\, Mozart: Violinkonzert G-Dur & Haffner-Sinfonie\, Haydn: Sinfonie Nr. 88 \nhttps://www.concerti.de/termine/darius-preuss-violine-philharmonisches-orchester-gorzow-przemyslaw-fiugajski-leitung-kloster-chorin-891970/
LOCATION:Kloster Chorin\, Amt Chorin 11a\, 16230 Chorin
END:VEVENT
END:VCALENDAR