BEGIN:VCALENDAR
VERSION:2.0
PRODID:concerti//https://www.concerti.de
CALSCALE:GREGORIAN
BEGIN:VTIMEZONE
TZID:Europe/Berlin
X-LIC-LOCATION:Europe/Berlin
BEGIN:DAYLIGHT
TZOFFSETFROM:+0100
TZOFFSETTO:+0200
TZNAME:CEST
DTSTART:19700329T020000
RRULE:FREQ=YEARLY;BYMONTH=3;BYDAY=-1SU
END:DAYLIGHT
BEGIN:STANDARD
TZOFFSETFROM:+0200
TZOFFSETTO:+0100
TZNAME:CET
DTSTART:19701025T030000
RRULE:FREQ=YEARLY;BYMONTH=10;BYDAY=-1SU
END:STANDARD
END:VTIMEZONE
BEGIN:VEVENT
UID:ed1aaad7d5cb3807facb7a82c0060697
SUMMARY:Klänge der Welt – Crossover total - Choriner Musiksommer
URL:https://www.concerti.de/termine/klaenge-der-welt-crossover-total-kloster-chorin-891961/
DTSTART;TZID=Europe/Berlin:20260719T150000
DTEND;TZID=Europe/Berlin:20260719T170000
DESCRIPTION:Interpreten: Jacaranda – ein Ensemble der Brandenburger Sinfoniker \nhttps://www.concerti.de/termine/klaenge-der-welt-crossover-total-kloster-chorin-891961/
LOCATION:Kloster Chorin\, Amt Chorin 11a\, 16230 Chorin
END:VEVENT
END:VCALENDAR