BEGIN:VCALENDAR
VERSION:2.0
PRODID:concerti//https://www.concerti.de
CALSCALE:GREGORIAN
BEGIN:VTIMEZONE
TZID:Europe/Berlin
X-LIC-LOCATION:Europe/Berlin
BEGIN:DAYLIGHT
TZOFFSETFROM:+0100
TZOFFSETTO:+0200
TZNAME:CEST
DTSTART:19700329T020000
RRULE:FREQ=YEARLY;BYMONTH=3;BYDAY=-1SU
END:DAYLIGHT
BEGIN:STANDARD
TZOFFSETFROM:+0200
TZOFFSETTO:+0100
TZNAME:CET
DTSTART:19701025T030000
RRULE:FREQ=YEARLY;BYMONTH=10;BYDAY=-1SU
END:STANDARD
END:VTIMEZONE
BEGIN:VEVENT
UID:21333cf552dcbac8be2f66e1c603a640
SUMMARY:Emmanuel Rossfelder (Gitarre), Orchester der Komischen Oper Berlin, Markus Huber (Leitung) - Choriner Musiksommer
URL:https://www.concerti.de/termine/emmanuel-rossfelder-gitarre-orchester-der-komischen-oper-berlin-markus-huber-leitung-kloster-chorin-891952/
DTSTART;TZID=Europe/Berlin:20260704T150000
DTEND;TZID=Europe/Berlin:20260704T170000
DESCRIPTION:Interpreten: Emmanuel Rossfelder (Gitarre)\, Orchester der Komischen Oper Berlin\, Markus Huber (Leitung) \nProgramm: Respighi: Fontana di Roma\, Rodrigo: Concierto de Aranjuez\, Bizet: Sinfonie C-Dur \nhttps://www.concerti.de/termine/emmanuel-rossfelder-gitarre-orchester-der-komischen-oper-berlin-markus-huber-leitung-kloster-chorin-891952/
LOCATION:Kloster Chorin\, Amt Chorin 11a\, 16230 Chorin
END:VEVENT
END:VCALENDAR