BEGIN:VCALENDAR
VERSION:2.0
PRODID:concerti//https://www.concerti.de
CALSCALE:GREGORIAN
BEGIN:VTIMEZONE
TZID:Europe/Berlin
X-LIC-LOCATION:Europe/Berlin
BEGIN:DAYLIGHT
TZOFFSETFROM:+0100
TZOFFSETTO:+0200
TZNAME:CEST
DTSTART:19700329T020000
RRULE:FREQ=YEARLY;BYMONTH=3;BYDAY=-1SU
END:DAYLIGHT
BEGIN:STANDARD
TZOFFSETFROM:+0200
TZOFFSETTO:+0100
TZNAME:CET
DTSTART:19701025T030000
RRULE:FREQ=YEARLY;BYMONTH=10;BYDAY=-1SU
END:STANDARD
END:VTIMEZONE
BEGIN:VEVENT
UID:d7e62ab47254ecc457e037a755419754
SUMMARY:Bella Italia - Choriner Musiksommer
URL:https://www.concerti.de/termine/bella-italia-kloster-chorin-891946/
DTSTART;TZID=Europe/Berlin:20260621T150000
DTEND;TZID=Europe/Berlin:20260621T170000
DESCRIPTION:Interpreten: Elisa Maayeshi (Sopran)\, Sangmin Jeon (Tenor)\, Staatskapelle Weimar\, Olivier Tardy (Leitung)\, Udo Wachtveitl (Moderation) \nProgramm: Bellini: Ouvertüre zu „Norma“\, Paganini: Caprice\, Boccherini: Menuett Nr. 5\, Verdi: Prestissimo aus „Don Carlo“\, Donizetti: Arie „Caro elisir\, sei mio“ aus „L’elisir d’amore“ \nhttps://www.concerti.de/termine/bella-italia-kloster-chorin-891946/
LOCATION:Kloster Chorin\, Amt Chorin 11a\, 16230 Chorin
END:VEVENT
END:VCALENDAR