BEGIN:VCALENDAR
VERSION:2.0
PRODID:concerti//https://www.concerti.de
CALSCALE:GREGORIAN
BEGIN:VTIMEZONE
TZID:Europe/Berlin
X-LIC-LOCATION:Europe/Berlin
BEGIN:DAYLIGHT
TZOFFSETFROM:+0100
TZOFFSETTO:+0200
TZNAME:CEST
DTSTART:19700329T020000
RRULE:FREQ=YEARLY;BYMONTH=3;BYDAY=-1SU
END:DAYLIGHT
BEGIN:STANDARD
TZOFFSETFROM:+0200
TZOFFSETTO:+0100
TZNAME:CET
DTSTART:19701025T030000
RRULE:FREQ=YEARLY;BYMONTH=10;BYDAY=-1SU
END:STANDARD
END:VTIMEZONE
BEGIN:VEVENT
UID:19133ea35c7deea411a38e6a787b56d8
SUMMARY:Puccini: Turandot
URL:https://www.concerti.de/termine/puccini-turandot-stadttheater-passau-891853/
DTSTART;TZID=Europe/Berlin:20260620T200000
DTEND;TZID=Europe/Berlin:20260620T220000
DESCRIPTION:Interpreten: Basil H. E. Coleman (Leitung)\, Jonathan Lunn (Regie) \nhttps://www.concerti.de/termine/puccini-turandot-stadttheater-passau-891853/
LOCATION:Stadttheater Passau\, Gottfried-Schäfer-Straße 2\, 94032 Passau
END:VEVENT
END:VCALENDAR