BEGIN:VCALENDAR
VERSION:2.0
PRODID:concerti//https://www.concerti.de
CALSCALE:GREGORIAN
BEGIN:VTIMEZONE
TZID:Europe/Berlin
X-LIC-LOCATION:Europe/Berlin
BEGIN:DAYLIGHT
TZOFFSETFROM:+0100
TZOFFSETTO:+0200
TZNAME:CEST
DTSTART:19700329T020000
RRULE:FREQ=YEARLY;BYMONTH=3;BYDAY=-1SU
END:DAYLIGHT
BEGIN:STANDARD
TZOFFSETFROM:+0200
TZOFFSETTO:+0100
TZNAME:CET
DTSTART:19701025T030000
RRULE:FREQ=YEARLY;BYMONTH=10;BYDAY=-1SU
END:STANDARD
END:VTIMEZONE
BEGIN:VEVENT
UID:0fb7b11222a9c4df3c91cbe13b28643a
SUMMARY:Polina Spirina (Klavier), Helen Blau (Klavier), Paul Buruiana (Klavier), Susanne Absmaier (Klavier), Julia Ito (Klavier), Para Chang (Klavier), Paul Buruiana (Moderation)
URL:https://www.concerti.de/termine/polina-spirina-klavier-helen-blau-klavier-paul-buruiana-klavier-susanne-absmaier-klavier-julia-ito-klavier-para-chang-klavier-paul-buruiana-moderation-891847/
DTSTART;TZID=Europe/Berlin:20260619T190000
DTEND;TZID=Europe/Berlin:20260619T210000
DESCRIPTION:Interpreten: Polina Spirina (Klavier)\, Helen Blau (Klavier)\, Paul Buruiana (Klavier)\, Susanne Absmaier (Klavier)\, Julia Ito (Klavier)\, Para Chang (Klavier)\, Paul Buruiana (Moderation) \nProgramm: Werke von Soler\, Debussy\, Falla\, Ravel\, Albeniz u. a. \nhttps://www.concerti.de/termine/polina-spirina-klavier-helen-blau-klavier-paul-buruiana-klavier-susanne-absmaier-klavier-julia-ito-klavier-para-chang-klavier-paul-buruiana-moderation-891847/
LOCATION:Kaulbach-Villa\, München
END:VEVENT
END:VCALENDAR